BEGIN:VCALENDAR
VERSION:2.0
PRODID:-//Plone.org//NONSGML plone.app.event//EN
X-WR-TIMEZONE:Europe/Berlin
BEGIN:VEVENT
SUMMARY:LIFE LOCAL ADAPT Projektové setkání 2020
DTSTART;VALUE=DATE:20200525
DTEND;VALUE=DATE:20200528
DTSTAMP;VALUE=DATE-TIME:20260421T034359Z
UID:55f59b355e8647e5b3999382de889685
CREATED;VALUE=DATE-TIME:20191125T095137Z
DESCRIPTION:Due to the Corona pandemic\, the project meeting will take pla
 ce as video conferences.
LAST-MODIFIED;VALUE=DATE-TIME:20200504T110952Z
URL:https://life-local-adapt.eu/cs/kalendar/life-local-adapt-projektove-se
 tkani-2020
END:VEVENT
END:VCALENDAR
