BEGIN:VCALENDAR
VERSION:2.0
PRODID:-//Plone.org//NONSGML plone.app.event//EN
X-WR-TIMEZONE:Europe/Berlin
BEGIN:VEVENT
SUMMARY:12. Annaberger Klimatage
DTSTART;VALUE=DATE:20220509
DTEND;VALUE=DATE:20220511
DTSTAMP;VALUE=DATE-TIME:20260421T004354Z
UID:d8b1570cb65c4bafb6e539a99ddb2cbd
CONTACT:https://www.klima.sachsen.de/annaberger-klimatage-12172.html?_cp=%
 7B%22accordion-content-12174%22%3A%7B%220%22%3Atrue%7D%2C%22previousOpen%2
 2%3A%7B%22group%22%3A%22accordion-content-12174%22%2C%22idx%22%3A0%7D%7D
CREATED;VALUE=DATE-TIME:20191125T094535Z
DESCRIPTION:Zum Vormerken: Die nächsten Annaberger Klimatage finden vom 1
 1. bis 12. Mai 2022 statt.
LAST-MODIFIED;VALUE=DATE-TIME:20220202T150814Z
LOCATION:Annaberg-Buchholz
URL:https://life-local-adapt.eu/de/kalender/annaberger-klimatage-1
END:VEVENT
BEGIN:VEVENT
SUMMARY:4. Statuskolloquium Klima 2021
DTSTART;VALUE=DATE:20210929
DTEND;VALUE=DATE:20210930
DTSTAMP;VALUE=DATE-TIME:20260421T004354Z
UID:b9b314f1255f4b1dbd2bac51d5a175a6
CONTACT:https://www.klima.sachsen.de/statuskolloquium-klima-12961.html
CREATED;VALUE=DATE-TIME:20210302T111007Z
DESCRIPTION:Schwerpunkte der Veranstaltung sind Informationen zu Klimawand
 el und -Anpassung in Kommunen.
LAST-MODIFIED;VALUE=DATE-TIME:20210302T111030Z
LOCATION:Konferenzsaal der Sächsischen Aufbaubank (SAB) in Dresden
URL:https://life-local-adapt.eu/de/kalender/4-statuskolloquium-klima-2021
END:VEVENT
BEGIN:VEVENT
SUMMARY:Dialogveranstaltung Klimawandelanpassung in der Steiermark
DTSTART;VALUE=DATE:20210921
DTEND;VALUE=DATE:20210924
DTSTAMP;VALUE=DATE-TIME:20260421T004354Z
UID:1d88ed3446b94c1fbe5c328e53bd84e5
CREATED;VALUE=DATE-TIME:20210209T133112Z
LAST-MODIFIED;VALUE=DATE-TIME:20210209T133112Z
LOCATION:Graz\, Wartinger Saal
URL:https://life-local-adapt.eu/de/kalender/dialogveranstaltung-klimawande
 lanpassung-in-der-steiermark
END:VEVENT
BEGIN:VEVENT
SUMMARY:International conference on Future Cities
DTSTART;VALUE=DATE:20201217
DTEND;VALUE=DATE:20201219
DTSTAMP;VALUE=DATE-TIME:20260421T004354Z
UID:5bfa456121664242830f1cd8f4f0b67e
CONTACT:http://worldresearchsociety.com/Conference/17152/ICFC/
CREATED;VALUE=DATE-TIME:20200306T122958Z
LAST-MODIFIED;VALUE=DATE-TIME:20200306T123202Z
LOCATION:Ostrava\, Tschechische Republik
URL:https://life-local-adapt.eu/de/kalender/international-conference-on-fu
 ture-cities
END:VEVENT
BEGIN:VEVENT
SUMMARY:Webinar – The challenges of small and medium-sized municipalitie
 s in climate change adaptation
DTSTART;TZID=Europe/Berlin;VALUE=DATE-TIME:20201126T140000
DTEND;TZID=Europe/Berlin;VALUE=DATE-TIME:20201126T160000
DTSTAMP;VALUE=DATE-TIME:20260421T004354Z
UID:f684b581140e463eaa3e08e230b929fe
CONTACT:https://www.climateurope.eu/event/webinar-the-challenges-of-small-
 and-medium-sized-municipalities-in-climate-change-adaptation/?instance_id=
 210
CREATED;VALUE=DATE-TIME:20201124T075138Z
LAST-MODIFIED;VALUE=DATE-TIME:20201124T075138Z
LOCATION:Online
URL:https://life-local-adapt.eu/de/kalender/webinar-the-challenges-of-smal
 l-and-medium-sized-municipalities-in-climate-change-adaptation
END:VEVENT
BEGIN:VEVENT
SUMMARY:Online Workshop “Umsetzung einer Anpassungsmaßnahme”
DTSTART;TZID=Europe/Berlin;VALUE=DATE-TIME:20201029T143000
DTEND;TZID=Europe/Berlin;VALUE=DATE-TIME:20201029T160000
DTSTAMP;VALUE=DATE-TIME:20260421T004354Z
UID:284ef1e0039b477aa773a8e3268c656d
CREATED;VALUE=DATE-TIME:20210209T133547Z
LAST-MODIFIED;VALUE=DATE-TIME:20210209T135041Z
LOCATION:Online (webex)
URL:https://life-local-adapt.eu/de/kalender/online-workshop-umsetzung-eine
 r-anpassungsmassnahme201d
END:VEVENT
BEGIN:VEVENT
SUMMARY:LIFE LOCAL ADAPT Projekttreffen 2020
DTSTART;VALUE=DATE:20200525
DTEND;VALUE=DATE:20200528
DTSTAMP;VALUE=DATE-TIME:20260421T004354Z
UID:7c311989b42949a69f3b001bdf450499
CREATED;VALUE=DATE-TIME:20191122T125133Z
DESCRIPTION:Aufgrund der Corona-Pandemie findet das Projekttreffen in Form
  von Videokonferenzen statt.
LAST-MODIFIED;VALUE=DATE-TIME:20200504T110638Z
URL:https://life-local-adapt.eu/de/kalender/life-local-adapt-projekttreffe
 n-2020
END:VEVENT
BEGIN:VEVENT
SUMMARY:Webinar zur Anpassung an den Klimawandel im Tourismus
DTSTART;TZID=Europe/Berlin;VALUE=DATE-TIME:20200511T090000
DTEND;TZID=Europe/Berlin;VALUE=DATE-TIME:20200512T111500
DTSTAMP;VALUE=DATE-TIME:20260421T004354Z
UID:e8632dfaaf254d92838baf36aead50cb
CONTACT:https://www.umweltbundesamt.de/service/termine/webinar-zur-anpassu
 ng-an-den-klimawandel-im
CREATED;VALUE=DATE-TIME:20191122T130653Z
LAST-MODIFIED;VALUE=DATE-TIME:20200504T110353Z
URL:https://life-local-adapt.eu/de/kalender/konferenz-zur-anpassung-an-den
 -klimawandel-im-tourismus
END:VEVENT
BEGIN:VEVENT
SUMMARY:RAINMAN Abschlusskonferenz zum Integriertes Starkregen Risiko Mana
 gement.
DTSTART;VALUE=DATE:20200506
DTEND;VALUE=DATE:20200507
DTSTAMP;VALUE=DATE-TIME:20260421T004354Z
UID:96eaddedf96e41e7853501c115d04864
CONTACT:https://www.interreg-central.eu/Content.Node/RAINMAN.html
CREATED;VALUE=DATE-TIME:20200109T104256Z
DESCRIPTION:Abschlusskonferenz abgesagt!
LAST-MODIFIED;VALUE=DATE-TIME:20200504T105732Z
LOCATION:Dresden
URL:https://life-local-adapt.eu/de/kalender/rainman-final-confenrence
END:VEVENT
BEGIN:VEVENT
SUMMARY:6. Energiecamp Murau 2020
DTSTART;VALUE=DATE:20200402
DTEND;VALUE=DATE:20200404
DTSTAMP;VALUE=DATE-TIME:20260421T004354Z
UID:404b935527a543eaa4a9d7cf84a352fa
CONTACT:https://energiecamp.at/
CREATED;VALUE=DATE-TIME:20191126T125827Z
DESCRIPTION:Checkpoint Energie – Zeitreise der Energiewende. Vergangenhe
 it – Gegenwart – Zukunft: Wo stehen wir? Wohin gehen wir? Fachvorträg
 e\, Diskussionen mit ExpertInnen\, innovative Beispiele und herausragende 
 Start-ups stehen am Programm.
LAST-MODIFIED;VALUE=DATE-TIME:20191126T125827Z
LOCATION:Hotel zum Brauhaus\, Murau\, Österreich
URL:https://life-local-adapt.eu/de/kalender/6-energiecamp-murau-2020
END:VEVENT
BEGIN:VEVENT
SUMMARY:Konferenz „Schäden durch Starkregen vermeiden“
DTSTART;TZID=Europe/Berlin;VALUE=DATE-TIME:20200318T100000
DTEND;TZID=Europe/Berlin;VALUE=DATE-TIME:20200318T160000
DTSTAMP;VALUE=DATE-TIME:20260421T004354Z
UID:ee1639d9c39c4f0492d678f729517212
CONTACT:https://www.hlnug.de/themen/klimawandel-und-anpassung/save-the-dat
 e-konferenz-schaeden-durch-starkregen-vermeiden
CREATED;VALUE=DATE-TIME:20191126T090641Z
DESCRIPTION:In den Herbst verschoben.
LAST-MODIFIED;VALUE=DATE-TIME:20200504T111316Z
LOCATION:Wiesbaden
URL:https://life-local-adapt.eu/de/kalender/konferenz-schaeden-durch-stark
 regen-vermeiden
END:VEVENT
BEGIN:VEVENT
SUMMARY:13. Konferenz „Kommunen aktiv für den Klimaschutz“
DTSTART;TZID=Europe/Berlin;VALUE=DATE-TIME:20200310T093000
DTEND;TZID=Europe/Berlin;VALUE=DATE-TIME:20200310T170000
DTSTAMP;VALUE=DATE-TIME:20260421T004354Z
UID:f3598e28d43b45db9fdfe3b5697f6c1b
CONTACT:https://www.dstgb.de/dstgb/newsletter/Homepage/Aktuelles/2019/%E2%
 80%9EKommunen%20aktiv%20f%C3%BCr%20den%20Klimaschutz%E2%80%9C/?noredirect=
 true
CREATED;VALUE=DATE-TIME:20191122T124137Z
LAST-MODIFIED;VALUE=DATE-TIME:20191122T124344Z
LOCATION:Bonn\, Forschungszentrum caesar
URL:https://life-local-adapt.eu/de/kalender/13-konferenz-kommunen-aktiv-fu
 er-den-klimaschutz
END:VEVENT
BEGIN:VEVENT
SUMMARY:Wasserressourcen im Klimawandel
DTSTART;TZID=Europe/Berlin;VALUE=DATE-TIME:20200227T190000
DTEND;TZID=Europe/Berlin;VALUE=DATE-TIME:20200227T213000
DTSTAMP;VALUE=DATE-TIME:20260421T004354Z
UID:c7da3cb9d4cb46688d65922c52e89911
CREATED;VALUE=DATE-TIME:20191126T125239Z
LAST-MODIFIED;VALUE=DATE-TIME:20191126T125239Z
LOCATION:Universität Graz
URL:https://life-local-adapt.eu/de/kalender/wasserressourcen-im-klimawande
 l
END:VEVENT
BEGIN:VEVENT
SUMMARY:Workshop Hitze und Gesundheit
DTSTART;TZID=Europe/Berlin;VALUE=DATE-TIME:20200211T100000
DTEND;TZID=Europe/Berlin;VALUE=DATE-TIME:20200211T150000
DTSTAMP;VALUE=DATE-TIME:20260421T004354Z
UID:a42aa130de3a4843976cd134f8383e88
CONTACT:https://buergerbeteiligung.sachsen.de/portal/lfulg/beteiligung/akt
 uelle-themen/1018830?zugangscode=1BXx9qq9
CREATED;VALUE=DATE-TIME:20191122T123257Z
LAST-MODIFIED;VALUE=DATE-TIME:20200115T071823Z
LOCATION:Dresden\, Stauffenbergallee 2
URL:https://life-local-adapt.eu/de/kalender/workshop-zum-thema-hitze-und-g
 esundheit
END:VEVENT
BEGIN:VEVENT
SUMMARY:Dürren in Mitteldeutschland – Auswirkungen\, Herausforderungen\
 , Anpassungsoptionen
DTSTART;VALUE=DATE:20200114
DTEND;VALUE=DATE:20200116
DTSTAMP;VALUE=DATE-TIME:20260421T004354Z
UID:504903173c6e42cf94aa114a442e447f
CONTACT:https://www.ufz.de/index.php?de=46543
CREATED;VALUE=DATE-TIME:20191122T130246Z
LAST-MODIFIED;VALUE=DATE-TIME:20191122T132537Z
LOCATION:Leipzig
URL:https://life-local-adapt.eu/de/kalender/duerren-in-mitteldeutschland-a
 uswirkungen-herausforderungen-anpassungsoptionen
END:VEVENT
BEGIN:VEVENT
SUMMARY:Der Klimawandel und die Steiermark 2019
DTSTART;TZID=Europe/Berlin;VALUE=DATE-TIME:20191212T170000
DTEND;TZID=Europe/Berlin;VALUE=DATE-TIME:20191212T200000
DTSTAMP;VALUE=DATE-TIME:20260421T004354Z
UID:3312912f5a7540dea5c9f112542422a0
CONTACT:https://www.museum-joanneum.at/naturkundemuseum/ihr-besuch/program
 m/events/event/7752/schauplatz-natur-der-klimawandel-und-die-steiermark-20
 19
CREATED;VALUE=DATE-TIME:20191126T124338Z
DESCRIPTION:Gemeinsam mit Expertinnen und Experten wichtiger Forschungsins
 titutionen sowie mit der Stadt Graz und dem Land Steiermark soll diese glo
 bale Entwicklung speziell auf die Auswirkungen für Graz und die Steiermar
 k beleuchtet werden. Das Naturkundemuseum wird dabei zum Ort für Informat
 ion\, Austausch und Aufklärung.
LAST-MODIFIED;VALUE=DATE-TIME:20191126T124420Z
LOCATION:Naturkundemuseum Joanneumsviertel Graz
URL:https://life-local-adapt.eu/de/kalender/der-klimawandel-und-die-steier
 mark-2019
END:VEVENT
BEGIN:VEVENT
SUMMARY:Statuskolloqium Klima 2019
DTSTART;VALUE=DATE:20191205
DTEND;VALUE=DATE:20191206
DTSTAMP;VALUE=DATE-TIME:20260421T004354Z
UID:ac1455b49b7e42a6b0249a48959eb899
CONTACT:https://buergerbeteiligung.sachsen.de/portal/lfulg/beteiligung/akt
 uelle-themen/1017608
CREATED;VALUE=DATE-TIME:20190719T082331Z
DESCRIPTION:Auf dem Statuskolloqium treffen sich Wissenschaftler\, Forsche
 r\, Referenten und interessierte Anwender\, um neueste Erkenntnisse auf de
 m Gebiet des regionalen Klimawandels - hier in Sachsen - zu erfahren\, aus
 zutauschen und zu diskutieren.
LAST-MODIFIED;VALUE=DATE-TIME:20191122T131135Z
LOCATION:Dresden\, Germany
URL:https://life-local-adapt.eu/de/kalender/statuskolloqium-klima-2019
END:VEVENT
BEGIN:VEVENT
SUMMARY:Konferenz "Stadtgrün ist Mehrwert"
DTSTART;TZID=Europe/Berlin;VALUE=DATE-TIME:20190911T180000
DTEND;TZID=Europe/Berlin;VALUE=DATE-TIME:20190913T113000
DTSTAMP;VALUE=DATE-TIME:20260421T004354Z
UID:3f82dc552e0f42f5b8271d3c6cd3fae8
CONTACT:https://www.ioew.de/veranstaltung/stadtgruen_ist_mehrwert/
CREATED;VALUE=DATE-TIME:20190618T064056Z
DESCRIPTION:Veranstalter: Institut für ökologische Wirtschaftsforschung 
 (IÖW) Stadt Leipzig Stadt Augsburg Stadt Karlsruhe Stadt Nürnberg Deutsc
 he Umwelthilfe (DUH) Potsdam Institut für Klimafolgenforschung (PIK)
LAST-MODIFIED;VALUE=DATE-TIME:20190618T064056Z
LOCATION:Leipzig
URL:https://life-local-adapt.eu/de/kalender/konferenz-stadtgruen-ist-mehrw
 ert
END:VEVENT
BEGIN:VEVENT
SUMMARY:Europäisches Forum für urbane Resilienz 2019
DTSTART;VALUE=DATE:20190625
DTEND;VALUE=DATE:20190626
DTSTAMP;VALUE=DATE-TIME:20260421T004354Z
UID:0c82dd998dcf48cab44f53adf002f5a0
CONTACT:http://urbanresilienceforum.eu/
CREATED;VALUE=DATE-TIME:20190219T090416Z
LAST-MODIFIED;VALUE=DATE-TIME:20190329T125549Z
LOCATION:Bonn
URL:https://life-local-adapt.eu/de/kalender/europaeisches-forum-fuer-urban
 e-resilienz-2019
END:VEVENT
BEGIN:VEVENT
SUMMARY:Europäische Klimaanpassungskonferenz\, ECCA 2019
DTSTART;VALUE=DATE:20190528
DTEND;VALUE=DATE:20190601
DTSTAMP;VALUE=DATE-TIME:20260421T004354Z
UID:709f34eb46e14e8f81f8e6af96bf69e6
CONTACT:https://www.ecca2019.eu/
CREATED;VALUE=DATE-TIME:20190219T084437Z
DESCRIPTION:Die 4. ECCA-Konferenz hat u.a. folgende Ziele: Den Dialog übe
 r die verschiedenen Aspekte der Anpassung an den Klimawandel fördern\; Ko
 mmunikation und Wissensaustauschs zwischen Forschern\, politischen Entsche
 idungsträgern und Praktikern erleichtern\; Integrierte Lösungen und Insp
 iration bei der Anpassung an den Klimawandel suchen\; Eine Plattform für 
 die Präsentation der europäischen Spitzenleistungen im Bereich Forschung
  und Innovation bieten.
LAST-MODIFIED;VALUE=DATE-TIME:20190219T091716Z
LOCATION:Lissabon
URL:https://life-local-adapt.eu/de/kalender/european-climate-change-adapta
 tion-conference-ecca-2019
END:VEVENT
BEGIN:VEVENT
SUMMARY:Hitze in der Stadt – kommunale Klimavorsorge
DTSTART;VALUE=DATE:20190522
DTEND;VALUE=DATE:20190524
DTSTAMP;VALUE=DATE-TIME:20260421T004354Z
UID:a2d2211308a64971bdabdcd70f5c773f
CONTACT:https://difu.de/veranstaltungen/2019-05-22/hitze-in-der-stadt-komm
 unale-klimavorsorge.html
CREATED;VALUE=DATE-TIME:20181116T123032Z
DESCRIPTION:Im Seminar werden Handlungserfordernisse\, Wissensbedarfe sowi
 e bereits vorliegende Lösungsansätze und Erfahrungen aus der Hitze- und 
 Gesundheitsvorsorge von Fachleuten aus Wissenschaft und Praxis anhand konk
 reter Anwendungs- und Umsetzungsbeispiele aus Kommunen vorgestellt. Zielgr
 uppen: Führungs- und Fachpersonal aus kommunaler Verwaltung und Politik\,
  Bereiche Gesundheit\, Soziales\, Umwelt\, Planen\, Grünflächen\, Nachha
 ltigkeit und Klimaanpassung\, sowie von freien Trägern
LAST-MODIFIED;VALUE=DATE-TIME:20181116T123032Z
LOCATION:Düsseldorf
URL:https://life-local-adapt.eu/de/kalender/hitze-in-der-stadt-kommunale-k
 limavorsorge
END:VEVENT
BEGIN:VEVENT
SUMMARY:Mit Starkregen umgehen – Überflutungsvorsorge und Katastrophenm
 anagement
DTSTART;VALUE=DATE:20190516
DTEND;VALUE=DATE:20190518
DTSTAMP;VALUE=DATE-TIME:20260421T004354Z
UID:4506a0f15f7e4e319fc6cf2cc5822ff3
CONTACT:https://difu.de/node/12134
CREATED;VALUE=DATE-TIME:20181116T122834Z
DESCRIPTION:Im Seminar werden Ansätze und Instrumente der Überflutungsvo
 rsorge und des Starkregenmanagements anhand von konkreten Anwendungs- und 
 Umsetzungsbeispielen aus Kommunen vorgestellt.  Zielgruppen:	Führungs- un
 d Fachpersonal aus kommunaler Verwaltung und Politik\, Bereiche Stadtplanu
 ng und -entwicklung\, Stadtentwässerung\, Umwelt\, Grünflächen- und Lan
 dschaftsplanung\, Straßenplanung\, Nachhaltigkeit\, Klimaanpassung und Ka
 tastrophenschutz
LAST-MODIFIED;VALUE=DATE-TIME:20181116T122834Z
LOCATION:Nürnberg
URL:https://life-local-adapt.eu/de/kalender/mit-starkregen-umgehen-ueberfl
 utungsvorsorge-und-katastrophenmanagement
END:VEVENT
BEGIN:VEVENT
SUMMARY:LIFE LOCAL ADAPT 2019
DTSTART;VALUE=DATE:20190508
DTEND;VALUE=DATE:20190510
DTSTAMP;VALUE=DATE-TIME:20260421T004354Z
UID:eb6293b8f3ee40879eb13ace39c9a583
CREATED;VALUE=DATE-TIME:20190219T083640Z
DESCRIPTION:Jährliches Projekttreffen
LAST-MODIFIED;VALUE=DATE-TIME:20190219T091037Z
LOCATION:Prag
URL:https://life-local-adapt.eu/de/kalender/life-local-adapt-projekttreffe
 n-2019
END:VEVENT
BEGIN:VEVENT
SUMMARY:Trockenheit 2018 - Ist das die Zukunft?
DTSTART;TZID=Europe/Berlin;VALUE=DATE-TIME:20190404T093000
DTEND;TZID=Europe/Berlin;VALUE=DATE-TIME:20190404T160000
DTSTAMP;VALUE=DATE-TIME:20260421T004354Z
UID:25b22fc2a9374c9cb849df56595993c8
CONTACT:https://buergerbeteiligung.sachsen.de/portal/lfulg/beteiligung/akt
 uelle-themen/1012965
CREATED;VALUE=DATE-TIME:20190329T130228Z
LAST-MODIFIED;VALUE=DATE-TIME:20190329T130408Z
LOCATION:Dresden\, Sächsische Aufbaubank
URL:https://life-local-adapt.eu/de/kalender/trockenheit-2018-ist-das-die-z
 ukunft
END:VEVENT
BEGIN:VEVENT
SUMMARY:Webinar: Die Kommunalrichtlinie fördert Klimaschutz - Fokus Förd
 erung von Personalstellen
DTSTART;TZID=Europe/Berlin;VALUE=DATE-TIME:20190122T100000
DTEND;TZID=Europe/Berlin;VALUE=DATE-TIME:20190122T120000
DTSTAMP;VALUE=DATE-TIME:20260421T004354Z
UID:2ebde6646e29475186428b49d02b7431
CONTACT:https://www.klimaschutz.de/service/veranstaltungen/skkk-webinar-di
 e-kommunalrichtlinie-f%C3%B6rdert-klimaschutz-fokus-f%C3%B6rderung-von
CREATED;VALUE=DATE-TIME:20190103T125421Z
DESCRIPTION:Klimaschutz bedarf Kompetenz und engagiertes Personal. Aktuell
 e Informationen zur Förderung personeller Ressourcen durch die Kommunalri
 chtlinie.
LAST-MODIFIED;VALUE=DATE-TIME:20190103T125421Z
LOCATION:Online
URL:https://life-local-adapt.eu/de/kalender/webinar-die-kommunalrichtlinie
 -foerdert-klimaschutz-fokus-foerderung-von-personalstellen
END:VEVENT
BEGIN:VEVENT
SUMMARY:Förderwissen für den Klimaschutz - Informationsveranstaltung fü
 r Sachsen-Anhalt\, Thüringen und Sachsen
DTSTART;VALUE=DATE:20190117
DTEND;VALUE=DATE:20190118
DTSTAMP;VALUE=DATE-TIME:20260421T004354Z
UID:20505e7a00754e8a8afc51548a82d92a
CONTACT:https://www.klimaschutz.de/service/veranstaltungen/skkk-vor-ort-f%
 C3%B6rderwissen-f%C3%BCr-den-klimaschutz-informationsveranstaltung-7
CREATED;VALUE=DATE-TIME:20190103T125053Z
DESCRIPTION:Informieren Sie sich über Fördermöglichkeiten im Klimaschut
 z\, die die Länder Sachsen-Anhalt\, Thüringen und Sachsen und die Nation
 ale Klimaschutzinitiative (NKI) für Kommunen\, kommunale Unternehmen und 
 lokale Einrichtungen anbieten und nutzen Sie die Gelegenheit\, mit erfolgr
 eichen Antragstellerinnen und Antragstellern ins Gespräch zu kommen.
LAST-MODIFIED;VALUE=DATE-TIME:20190103T125053Z
LOCATION:Naumburg\, Germany
URL:https://life-local-adapt.eu/de/kalender/foerderwissen-fuer-den-klimasc
 hutz-informationsveranstaltung-fuer-sachsen-anhalt-thueringen-und-sachsen
END:VEVENT
BEGIN:VEVENT
SUMMARY:1. Nationale Konferenz „Klimaanpassungsdienste – Klimavorsorge
  in der Praxis“
DTSTART;VALUE=DATE:20181112
DTEND;VALUE=DATE:20181113
DTSTAMP;VALUE=DATE-TIME:20260421T004354Z
UID:420c561d3f9046a8a4319aee66a4bb6a
CREATED;VALUE=DATE-TIME:20180921T114057Z
LAST-MODIFIED;VALUE=DATE-TIME:20180921T114057Z
LOCATION:Dessau\, Deutschland
URL:https://life-local-adapt.eu/de/kalender/1-nationale-konferenz-klimaanp
 assungsdienste-klimavorsorge-in-der-praxis
END:VEVENT
BEGIN:VEVENT
SUMMARY:Informationstag - Klima und Energie
DTSTART;TZID=Europe/Berlin;VALUE=DATE-TIME:20181024T160000
DTEND;TZID=Europe/Berlin;VALUE=DATE-TIME:20181024T180000
DTSTAMP;VALUE=DATE-TIME:20260421T004354Z
UID:3c3bde2cfefc4b95bff37618be2f9a29
CREATED;VALUE=DATE-TIME:20180921T113815Z
LAST-MODIFIED;VALUE=DATE-TIME:20180921T113939Z
LOCATION:Hartberg\, Österreich
URL:https://life-local-adapt.eu/de/kalender/information-day-climate-and-en
 ergy
END:VEVENT
BEGIN:VEVENT
SUMMARY:Dialogkonferenz über Klimawandelanpassung
DTSTART;TZID=Europe/Berlin;VALUE=DATE-TIME:20181011T160000
DTEND;TZID=Europe/Berlin;VALUE=DATE-TIME:20181011T190000
DTSTAMP;VALUE=DATE-TIME:20260421T004354Z
UID:6665496e02a54fc993d98e10f9d58917
CREATED;VALUE=DATE-TIME:20180921T113300Z
LAST-MODIFIED;VALUE=DATE-TIME:20180921T113545Z
LOCATION:Gleisdorf\, Austria
URL:https://life-local-adapt.eu/de/kalender/dialogue-conference-about-clim
 ate-adaptation
END:VEVENT
BEGIN:VEVENT
SUMMARY:STRIMA II - 2. Hochwasserrisikomanagementforum
DTSTART;VALUE=DATE:20180911
DTEND;VALUE=DATE:20180913
DTSTAMP;VALUE=DATE-TIME:20260421T004354Z
UID:c57ffe4f20454680b7e81f34fa438dae
CONTACT:http://www.strima.sachsen.de/veranstaltungen-3970.html
CREATED;VALUE=DATE-TIME:20180921T111858Z
DESCRIPTION:mit Beteiligung von LIFE LOCAL ADAPT
LAST-MODIFIED;VALUE=DATE-TIME:20180921T112816Z
LOCATION:Dresden\, Germany
URL:https://life-local-adapt.eu/de/kalender/strima-ii-forum-saxon-czech-fl
 ood-risk-management
END:VEVENT
BEGIN:VEVENT
SUMMARY:LIFE LOCAL ADAPT Projekttreffen 2018
DTSTART;VALUE=DATE:20180613
DTEND;VALUE=DATE:20180615
DTSTAMP;VALUE=DATE-TIME:20260421T004354Z
UID:1090103f73664549b6a25cbc1c2887ba
CREATED;VALUE=DATE-TIME:20171212T093042Z
LAST-MODIFIED;VALUE=DATE-TIME:20180921T110830Z
LOCATION:Hamburg\, Germany
URL:https://life-local-adapt.eu/de/kalender/life-local-adapt-project-meeti
 ng-1
END:VEVENT
BEGIN:VEVENT
SUMMARY:11. Annaberger Klimatage 2018
DTSTART;VALUE=DATE:20180516
DTEND;VALUE=DATE:20180518
DTSTAMP;VALUE=DATE-TIME:20260421T004354Z
UID:bc15ac5a1a39461dabed4142fe81ac01
CONTACT:https://www.umwelt.sachsen.de/umwelt/klima/22721.htm
CREATED;VALUE=DATE-TIME:20171107T102627Z
DESCRIPTION:Namhafte Klimawissenschaftler und Vertreter von Fachbehörden\
 , Verbänden\, Kammern und Bildungseinrichtungen diskutieren neue Erkenntn
 isse zum Klimawandel\, zu Klimafolgen und -anpassung.
LAST-MODIFIED;VALUE=DATE-TIME:20180921T111016Z
LOCATION:Annaberg\, Sachsen
URL:https://life-local-adapt.eu/de/kalender/annaberger-klimatage
END:VEVENT
BEGIN:VEVENT
SUMMARY:9th Annual Global Forum in Urban Resilience & Adaptation
DTSTART;VALUE=DATE:20180426
DTEND;VALUE=DATE:20180429
DTSTAMP;VALUE=DATE-TIME:20260421T004354Z
UID:7b0c8f229605464789979d87cefbcf6c
CREATED;VALUE=DATE-TIME:20171107T103128Z
DESCRIPTION:Resilient Cities 2018\, Bonn
LAST-MODIFIED;VALUE=DATE-TIME:20171107T103129Z
LOCATION:Bonn\, Germany
URL:https://life-local-adapt.eu/de/kalender/9th-annual-global-forum-in-urb
 an-resilience-adaptation
END:VEVENT
BEGIN:VEVENT
SUMMARY:19. Österreichischer Klimatag
DTSTART;TZID=Europe/Berlin;VALUE=DATE-TIME:20180423T130000
DTEND;TZID=Europe/Berlin;VALUE=DATE-TIME:20180425T140000
DTSTAMP;VALUE=DATE-TIME:20260421T004354Z
UID:574e3fe16bd045acaecec02893590e80
CONTACT:https://www.ccca.ac.at/dialogformate/oesterr-klimatag/klimatag-201
 8/
CREATED;VALUE=DATE-TIME:20180420T115924Z
DESCRIPTION:Der 19. Österreichische Klimatag ist eine wissenschaftliche T
 agung zur aktuellen Klimaforschung in Österreich\, die auch Angebote für
  eine interessierte Öffentlichkeit macht. Sie hat zum Ziel einen Überbli
 ck über die aktuellen österreichischen Forschungsaktivitäten in den Ber
 eichen Klimawandel\, Auswirkungen\, Anpassung sowie Vermeidung zu geben.
LAST-MODIFIED;VALUE=DATE-TIME:20180420T115924Z
LOCATION:Salzburg
URL:https://life-local-adapt.eu/de/kalender/19-oesterreichischer-klimatag
END:VEVENT
BEGIN:VEVENT
SUMMARY:2. Runde Regionaler Workshops in der Steiermark
DTSTART;VALUE=DATE:20180108
DTEND;VALUE=DATE:20180120
DTSTAMP;VALUE=DATE-TIME:20260421T004354Z
UID:f54522625e464a59b84ed7010bad1deb
CREATED;VALUE=DATE-TIME:20171212T091838Z
DESCRIPTION:Ziel des zweiten Workshops ist die gemeinsame Ausarbeitung von
  lokalen Maßnahmen zur Klimawandelanpassung. Am 8. Januar in Mariazell\, 
 am 9. Januar in Hartberg\, am 12. Januar in Gleisdorf und am 19. Januar in
  Deutschlandsberg
LAST-MODIFIED;VALUE=DATE-TIME:20171212T092127Z
URL:https://life-local-adapt.eu/de/kalender/2-runde-regionaler-workshops-i
 n-der-steiermark
END:VEVENT
BEGIN:VEVENT
SUMMARY:Statuskolloqium Klima 2017
DTSTART;VALUE=DATE:20171207
DTEND;VALUE=DATE:20171208
DTSTAMP;VALUE=DATE-TIME:20260421T004354Z
UID:eb0fd2cce45f4401876affe481522098
CONTACT:https://www.umwelt.sachsen.de/umwelt/klima/45464.htm
CREATED;VALUE=DATE-TIME:20170601T123716Z
DESCRIPTION:Auch in diesem Jahr treffen sich wieder namhafte Wissenschaftl
 er\, Forscher\, Referenten und interessierte Anwender\, um neueste Erkennt
 nisse auf dem Gebiet des regionalen Klimawandels - hier in Sachsen - zu er
 fahren\, auszutauschen und zu diskutieren.
LAST-MODIFIED;VALUE=DATE-TIME:20170601T123716Z
LOCATION:Dresden\, Sächsische Aufbaubank
URL:https://life-local-adapt.eu/de/kalender/statuskolloqium-klima-2017
END:VEVENT
BEGIN:VEVENT
SUMMARY:Treffen der RegionsmanagerInnen der Klima- und Energiemodell- sowi
 e Klimawandelanpassungsregionen (KEM und KLAR!)
DTSTART;TZID=Europe/Berlin;VALUE=DATE-TIME:20171109T140000
DTEND;TZID=Europe/Berlin;VALUE=DATE-TIME:20171109T170000
DTSTAMP;VALUE=DATE-TIME:20260421T004354Z
UID:670ebab2be404763b5d4b17a670b5229
CREATED;VALUE=DATE-TIME:20171107T091235Z
DESCRIPTION:Das Treffen soll der Koordinierung gemeinsamer Aktivitäten\, 
 dem Austausch zwischen Regionen und den KEM Verantwortlichen sowie dem Inf
 ormationsfluss zwischen den AkteurInnen in der Steiermark dienen.
LAST-MODIFIED;VALUE=DATE-TIME:20171108T154911Z
LOCATION:Steiermark\, Österreich
URL:https://life-local-adapt.eu/de/kalender/netzwerktreffen-der-klima-und-
 energiemodellregionen
END:VEVENT
BEGIN:VEVENT
SUMMARY:10. Jahrestagung "Kommunaler Energie-Dialog Sachsen"
DTSTART;TZID=Europe/Berlin;VALUE=DATE-TIME:20171106T093000
DTEND;TZID=Europe/Berlin;VALUE=DATE-TIME:20171106T153000
DTSTAMP;VALUE=DATE-TIME:20260421T004354Z
UID:5a13b9fd715b4204923ee769d63ce8f3
CONTACT:http://www.saena.de/aktuelles/veranstaltung.html?eid=423
CREATED;VALUE=DATE-TIME:20170920T190224Z
LAST-MODIFIED;VALUE=DATE-TIME:20170920T190348Z
URL:https://life-local-adapt.eu/de/kalender/10-jahrestagung-kommunaler-ene
 rgie-dialog-sachsen
END:VEVENT
BEGIN:VEVENT
SUMMARY:Bewerbungsschluss Wettbewerb »Klimaanpassung in sächsischen Komm
 unen«
DTSTART;VALUE=DATE:20170831
DTEND;VALUE=DATE:20170901
DTSTAMP;VALUE=DATE-TIME:20260421T004354Z
UID:3c6eefe160694a3ebc618e108a3101cb
CONTACT:https://www.umwelt.sachsen.de/umwelt/klima/44898.htm
CREATED;VALUE=DATE-TIME:20170601T124612Z
DESCRIPTION:Bis zum 31. August 2017 können sich kleine und mittlere Kommu
 nen (bis 100.000 Einwohner)\, deren kommunale Einrichtungen sowie Landkrei
 se und kommunale Zweckverbände mit Ideen zur Klimaanpassung bewerben. Die
 se werden im Rahmen des EU-Projektes mit durchschnittlich 30.000 EUR pro P
 rojektidee bei nichtinvestiven Maßnahmen zur Klimaanpassung wie Planungen
 \, Analysen und Konzeptionen unterstützt.
LAST-MODIFIED;VALUE=DATE-TIME:20170601T124612Z
URL:https://life-local-adapt.eu/de/kalender/bewerbungsschluss-wettbewerb-k
 limaanpassung-in-saechsischen-kommunen
END:VEVENT
BEGIN:VEVENT
SUMMARY:LIFE LOCAL ADAPT Projekttreffen 2017
DTSTART;VALUE=DATE:20170620
DTEND;VALUE=DATE:20170622
DTSTAMP;VALUE=DATE-TIME:20260421T004354Z
UID:5e0009538e8147a5a3ff6ede9e24a736
CREATED;VALUE=DATE-TIME:20170509T080011Z
LAST-MODIFIED;VALUE=DATE-TIME:20180921T110849Z
LOCATION:Graz\, Austria
URL:https://life-local-adapt.eu/de/kalender/life-local-adapt-project-meeti
 ng
END:VEVENT
BEGIN:VEVENT
SUMMARY:LIFE LOCAL ADAPT Kick-off 2016
DTSTART;VALUE=DATE:20160825
DTEND;VALUE=DATE:20160827
DTSTAMP;VALUE=DATE-TIME:20260421T004354Z
UID:de410667d58a4eee919bf6a6b12ec003
CREATED;VALUE=DATE-TIME:20180921T111246Z
LAST-MODIFIED;VALUE=DATE-TIME:20180921T111340Z
LOCATION:Dresden\, Germany
URL:https://life-local-adapt.eu/de/kalender/life-local-adapt-kick-off-2016
END:VEVENT
BEGIN:VTIMEZONE
TZID:Europe/Berlin
X-LIC-LOCATION:Europe/Berlin
BEGIN:DAYLIGHT
DTSTART;VALUE=DATE-TIME:20200329T030000
TZNAME:CEST
TZOFFSETFROM:+0100
TZOFFSETTO:+0200
END:DAYLIGHT
BEGIN:STANDARD
DTSTART;VALUE=DATE-TIME:20171029T020000
TZNAME:CET
TZOFFSETFROM:+0200
TZOFFSETTO:+0100
END:STANDARD
BEGIN:STANDARD
DTSTART;VALUE=DATE-TIME:20181028T020000
TZNAME:CET
TZOFFSETFROM:+0200
TZOFFSETTO:+0100
END:STANDARD
BEGIN:DAYLIGHT
DTSTART;VALUE=DATE-TIME:20180325T030000
TZNAME:CEST
TZOFFSETFROM:+0100
TZOFFSETTO:+0200
END:DAYLIGHT
BEGIN:STANDARD
DTSTART;VALUE=DATE-TIME:20201025T020000
TZNAME:CET
TZOFFSETFROM:+0200
TZOFFSETTO:+0100
END:STANDARD
BEGIN:STANDARD
DTSTART;VALUE=DATE-TIME:20191027T020000
TZNAME:CET
TZOFFSETFROM:+0200
TZOFFSETTO:+0100
END:STANDARD
BEGIN:DAYLIGHT
DTSTART;VALUE=DATE-TIME:20190331T030000
TZNAME:CEST
TZOFFSETFROM:+0100
TZOFFSETTO:+0200
END:DAYLIGHT
END:VTIMEZONE
END:VCALENDAR
