BEGIN:VCALENDAR
VERSION:2.0
PRODID:-//Plone.org//NONSGML plone.app.event//EN
X-WR-TIMEZONE:Europe/Berlin
BEGIN:VEVENT
SUMMARY:4th Status Colloquium Climate 2021
DTSTART;VALUE=DATE:20210929
DTEND;VALUE=DATE:20210930
DTSTAMP;VALUE=DATE-TIME:20260421T021151Z
UID:10f8e8bcadb74032a491f307ae4b3b97
CONTACT:https://www.klima.sachsen.de/statuskolloquium-klima-12961.html
CREATED;VALUE=DATE-TIME:20210302T111247Z
DESCRIPTION:The event will focus on information on climate change and adap
 tation in municipalities.
LAST-MODIFIED;VALUE=DATE-TIME:20210302T111251Z
LOCATION:Conference hall of the Sächsische Aufbaubank (SAB) in Dresden
URL:https://life-local-adapt.eu/en/calendar/4th-status-colloquium-climate-
 2021
END:VEVENT
END:VCALENDAR
