BEGIN:VCALENDAR
VERSION:2.0
PRODID:-//Plone.org//NONSGML plone.app.event//EN
X-WR-TIMEZONE:Europe/Berlin
BEGIN:VEVENT
SUMMARY:Conference "Avoiding damages by heavy rain"
DTSTART;TZID=Europe/Berlin;VALUE=DATE-TIME:20200318T100000
DTEND;TZID=Europe/Berlin;VALUE=DATE-TIME:20200318T160000
DTSTAMP;VALUE=DATE-TIME:20260421T140913Z
UID:a1a2c7f1e2044c95a3dbe01508c82b1f
CONTACT:https://www.hlnug.de/themen/klimawandel-und-anpassung/save-the-dat
 e-konferenz-schaeden-durch-starkregen-vermeiden
CREATED;VALUE=DATE-TIME:20191126T091338Z
DESCRIPTION:Postponed to autumn.
LAST-MODIFIED;VALUE=DATE-TIME:20200504T111357Z
LOCATION:Wiesbaden\, Germany
URL:https://life-local-adapt.eu/en/calendar/conference-avoiding-damages-by
 -heavy-rain
END:VEVENT
BEGIN:VTIMEZONE
TZID:Europe/Berlin
X-LIC-LOCATION:Europe/Berlin
BEGIN:STANDARD
DTSTART;VALUE=DATE-TIME:20191027T020000
TZNAME:CET
TZOFFSETFROM:+0200
TZOFFSETTO:+0100
END:STANDARD
END:VTIMEZONE
END:VCALENDAR
