BEGIN:VCALENDAR
VERSION:2.0
PRODID:-//Plone.org//NONSGML plone.app.event//EN
X-WR-TIMEZONE:Europe/Berlin
BEGIN:VEVENT
SUMMARY:LIFE LOCAL ADAPT Project meeting 2020
DTSTART;VALUE=DATE:20200525
DTEND;VALUE=DATE:20200528
DTSTAMP;VALUE=DATE-TIME:20260421T021442Z
UID:154654e641bd4b608830bb72c3843087
CREATED;VALUE=DATE-TIME:20191122T132321Z
DESCRIPTION:Due to the Corona pandemic\, the project meeting will take pla
 ce as video conferences.
LAST-MODIFIED;VALUE=DATE-TIME:20200504T110930Z
URL:https://life-local-adapt.eu/en/calendar/life-local-adapt-project-meeti
 ng-2020
END:VEVENT
END:VCALENDAR
